BEGIN:VCALENDAR
VERSION:2.0
PRODID:-//GasTurbineHub - ECPv6.15.20//NONSGML v1.0//EN
CALSCALE:GREGORIAN
METHOD:PUBLISH
X-WR-CALNAME:GasTurbineHub
X-ORIGINAL-URL:https://gasturbinehub.com
X-WR-CALDESC:Events for GasTurbineHub
REFRESH-INTERVAL;VALUE=DURATION:PT1H
X-Robots-Tag:noindex
X-PUBLISHED-TTL:PT1H
BEGIN:VTIMEZONE
TZID:Europe/Amsterdam
BEGIN:DAYLIGHT
TZOFFSETFROM:+0100
TZOFFSETTO:+0200
TZNAME:CEST
DTSTART:20250330T010000
END:DAYLIGHT
BEGIN:STANDARD
TZOFFSETFROM:+0200
TZOFFSETTO:+0100
TZNAME:CET
DTSTART:20251026T010000
END:STANDARD
BEGIN:DAYLIGHT
TZOFFSETFROM:+0100
TZOFFSETTO:+0200
TZNAME:CEST
DTSTART:20260329T010000
END:DAYLIGHT
BEGIN:STANDARD
TZOFFSETFROM:+0200
TZOFFSETTO:+0100
TZNAME:CET
DTSTART:20261025T010000
END:STANDARD
BEGIN:DAYLIGHT
TZOFFSETFROM:+0100
TZOFFSETTO:+0200
TZNAME:CEST
DTSTART:20270328T010000
END:DAYLIGHT
BEGIN:STANDARD
TZOFFSETFROM:+0200
TZOFFSETTO:+0100
TZNAME:CET
DTSTART:20271031T010000
END:STANDARD
END:VTIMEZONE
BEGIN:VEVENT
DTSTART;TZID=Europe/Amsterdam:20261005T000000
DTEND;TZID=Europe/Amsterdam:20261007T235959
DTSTAMP:20260420T012635
CREATED:20260408T104614Z
LAST-MODIFIED:20260408T104614Z
UID:2077-1791158400-1791417599@gasturbinehub.com
SUMMARY:SGT5/6-9000HL/8000H User Conference 2026
DESCRIPTION:Tier 1 – Igniter Membership Required\n\n You must be a Tier 1 – Igniter member to access this content. \nJoin Now \n\nAlready a member? Log in here
URL:https://gasturbinehub.com/event/sgt5-6-9000hl-8000h-user-conference-2026/
CATEGORIES:User Groups
END:VEVENT
BEGIN:VEVENT
DTSTART;TZID=Europe/Amsterdam:20261005T000000
DTEND;TZID=Europe/Amsterdam:20261008T235959
DTSTAMP:20260420T012635
CREATED:20260408T105334Z
LAST-MODIFIED:20260408T105346Z
UID:2079-1791158400-1791503999@gasturbinehub.com
SUMMARY:V94.3A (SGT5-4000F/AE94.3A) User Conference 2026
DESCRIPTION:Tier 1 – Igniter Membership Required\n\n You must be a Tier 1 – Igniter member to access this content. \nJoin Now \n\nAlready a member? Log in here
URL:https://gasturbinehub.com/event/v94-3a-sgt5-4000f-ae94-3a-user-conference-2026/
CATEGORIES:User Groups
END:VEVENT
BEGIN:VEVENT
DTSTART;TZID=Europe/Amsterdam:20261019T000000
DTEND;TZID=Europe/Amsterdam:20261022T235959
DTSTAMP:20260420T012635
CREATED:20260408T105552Z
LAST-MODIFIED:20260408T105552Z
UID:2081-1792368000-1792713599@gasturbinehub.com
SUMMARY:F9FA/FB\, 9HA\, F6FA User Conference 2026
DESCRIPTION:Tier 1 – Igniter Membership Required\n\n You must be a Tier 1 – Igniter member to access this content. \nJoin Now \n\nAlready a member? Log in here
URL:https://gasturbinehub.com/event/f9fa-fb-9ha-f6fa-user-conference-2026/
CATEGORIES:User Groups
END:VEVENT
BEGIN:VEVENT
DTSTART;TZID=Europe/Amsterdam:20261028T000000
DTEND;TZID=Europe/Amsterdam:20261030T235959
DTSTAMP:20260420T012635
CREATED:20260408T110023Z
LAST-MODIFIED:20260408T110041Z
UID:2084-1793145600-1793404799@gasturbinehub.com
SUMMARY:SGT‑A35 User Group Meeting 2026
DESCRIPTION:Tier 1 – Igniter Membership Required\n\n You must be a Tier 1 – Igniter member to access this content. \nJoin Now \n\nAlready a member? Log in here
URL:https://gasturbinehub.com/event/sgt-a35-user-group-meeting-2026/
LOCATION:TC Energy Tower\, 450 1 St SW\, Calgary\, AB T2P 5H1\, Canada
CATEGORIES:User Groups
END:VEVENT
END:VCALENDAR