BEGIN:VCALENDAR
VERSION:2.0
PRODID:-//GasTurbineHub - ECPv6.15.20//NONSGML v1.0//EN
CALSCALE:GREGORIAN
METHOD:PUBLISH
X-ORIGINAL-URL:https://gasturbinehub.com
X-WR-CALDESC:Events for GasTurbineHub
REFRESH-INTERVAL;VALUE=DURATION:PT1H
X-Robots-Tag:noindex
X-PUBLISHED-TTL:PT1H
BEGIN:VTIMEZONE
TZID:Europe/Amsterdam
BEGIN:DAYLIGHT
TZOFFSETFROM:+0100
TZOFFSETTO:+0200
TZNAME:CEST
DTSTART:20250330T010000
END:DAYLIGHT
BEGIN:STANDARD
TZOFFSETFROM:+0200
TZOFFSETTO:+0100
TZNAME:CET
DTSTART:20251026T010000
END:STANDARD
BEGIN:DAYLIGHT
TZOFFSETFROM:+0100
TZOFFSETTO:+0200
TZNAME:CEST
DTSTART:20260329T010000
END:DAYLIGHT
BEGIN:STANDARD
TZOFFSETFROM:+0200
TZOFFSETTO:+0100
TZNAME:CET
DTSTART:20261025T010000
END:STANDARD
BEGIN:DAYLIGHT
TZOFFSETFROM:+0100
TZOFFSETTO:+0200
TZNAME:CEST
DTSTART:20270328T010000
END:DAYLIGHT
BEGIN:STANDARD
TZOFFSETFROM:+0200
TZOFFSETTO:+0100
TZNAME:CET
DTSTART:20271031T010000
END:STANDARD
END:VTIMEZONE
BEGIN:VEVENT
DTSTART;TZID=Europe/Amsterdam:20260803T000000
DTEND;TZID=Europe/Amsterdam:20260806T235959
DTSTAMP:20260419T214906
CREATED:20260223T142044Z
LAST-MODIFIED:20260306T095021Z
UID:1850-1785715200-1786060799@gasturbinehub.com
SUMMARY:7HA & 9HA Users Group Annual Conference 2026
DESCRIPTION:Tier 1 – Igniter Membership Required\n\n You must be a Tier 1 – Igniter member to access this content. \nJoin Now \n\nAlready a member? Log in here
URL:https://gasturbinehub.com/event/7ha-9ha-users-group-annual-conference-2026/
LOCATION:Fort Lauderdale Marriott Harbor Beach Resort & Spa\, 3030 Holiday Dr\, Fort Lauderdale\, FL\, FL 33316\, United States
CATEGORIES:Gas Turbine Events,User Groups
END:VEVENT
BEGIN:VEVENT
DTSTART;TZID=Europe/Amsterdam:20260824T000000
DTEND;TZID=Europe/Amsterdam:20260827T235959
DTSTAMP:20260419T214906
CREATED:20260223T142425Z
LAST-MODIFIED:20260306T095058Z
UID:1855-1787529600-1787875199@gasturbinehub.com
SUMMARY:Power Users Annual Combined Conference 2026
DESCRIPTION:Tier 1 – Igniter Membership Required\n\n You must be a Tier 1 – Igniter member to access this content. \nJoin Now \n\nAlready a member? Log in here
URL:https://gasturbinehub.com/event/power-users-annual-combined-conference-2026/
LOCATION:San Antonio Rivercenter on the River Walk\, 101 Bowie St\, San Antonio\, Texas\, TX 78205\, United States
CATEGORIES:Gas Turbine Events,User Groups
END:VEVENT
END:VCALENDAR