BEGIN:VCALENDAR
VERSION:2.0
PRODID:-//GasTurbineHub - ECPv6.15.20//NONSGML v1.0//EN
CALSCALE:GREGORIAN
METHOD:PUBLISH
X-ORIGINAL-URL:https://gasturbinehub.com
X-WR-CALDESC:Events for GasTurbineHub
REFRESH-INTERVAL;VALUE=DURATION:PT1H
X-Robots-Tag:noindex
X-PUBLISHED-TTL:PT1H
BEGIN:VTIMEZONE
TZID:Europe/Amsterdam
BEGIN:DAYLIGHT
TZOFFSETFROM:+0100
TZOFFSETTO:+0200
TZNAME:CEST
DTSTART:20250330T010000
END:DAYLIGHT
BEGIN:STANDARD
TZOFFSETFROM:+0200
TZOFFSETTO:+0100
TZNAME:CET
DTSTART:20251026T010000
END:STANDARD
BEGIN:DAYLIGHT
TZOFFSETFROM:+0100
TZOFFSETTO:+0200
TZNAME:CEST
DTSTART:20260329T010000
END:DAYLIGHT
BEGIN:STANDARD
TZOFFSETFROM:+0200
TZOFFSETTO:+0100
TZNAME:CET
DTSTART:20261025T010000
END:STANDARD
BEGIN:DAYLIGHT
TZOFFSETFROM:+0100
TZOFFSETTO:+0200
TZNAME:CEST
DTSTART:20270328T010000
END:DAYLIGHT
BEGIN:STANDARD
TZOFFSETFROM:+0200
TZOFFSETTO:+0100
TZNAME:CET
DTSTART:20271031T010000
END:STANDARD
END:VTIMEZONE
BEGIN:VEVENT
DTSTART;TZID=Europe/Amsterdam:20260609T000000
DTEND;TZID=Europe/Amsterdam:20260611T235959
DTSTAMP:20260419T174739
CREATED:20260117T084641Z
LAST-MODIFIED:20260306T095026Z
UID:1594-1780963200-1781222399@gasturbinehub.com
SUMMARY:LM2500 User Group Meeting
DESCRIPTION:Tier 1 – Igniter Membership Required\n\n You must be a Tier 1 – Igniter member to access this content. \nJoin Now \n\nAlready a member? Log in here
URL:https://gasturbinehub.com/event/lm2500-user-group-meeting/
LOCATION:Aker BP Stavanger\, Jåttåflaten 28\, Stavanger\, 4020\, Norway
CATEGORIES:Gas Turbine Events,User Groups
END:VEVENT
BEGIN:VEVENT
DTSTART;TZID=Europe/Amsterdam:20260622T000000
DTEND;TZID=Europe/Amsterdam:20260625T235959
DTSTAMP:20260419T174739
CREATED:20260203T103303Z
LAST-MODIFIED:20260306T095016Z
UID:1634-1782086400-1782431999@gasturbinehub.com
SUMMARY:Legacy Turbine Users Group Annual Conference 2026
DESCRIPTION:Tier 1 – Igniter Membership Required\n\n You must be a Tier 1 – Igniter member to access this content. \nJoin Now \n\nAlready a member? Log in here
URL:https://gasturbinehub.com/event/legacy-turbine-users-group-annual-conference-2026/
LOCATION:Omni Oklahoma City Hotel\, 100 Oklahoma City Blvd\, Oklahoma City\, OK\, 73109\, United States
CATEGORIES:Gas Turbine Events,User Groups
END:VEVENT
END:VCALENDAR