BEGIN:VCALENDAR
VERSION:2.0
PRODID:-//GasTurbineHub - ECPv6.15.20//NONSGML v1.0//EN
CALSCALE:GREGORIAN
METHOD:PUBLISH
X-WR-CALNAME:GasTurbineHub
X-ORIGINAL-URL:https://gasturbinehub.com
X-WR-CALDESC:Events for GasTurbineHub
REFRESH-INTERVAL;VALUE=DURATION:PT1H
X-Robots-Tag:noindex
X-PUBLISHED-TTL:PT1H
BEGIN:VTIMEZONE
TZID:Europe/Amsterdam
BEGIN:DAYLIGHT
TZOFFSETFROM:+0100
TZOFFSETTO:+0200
TZNAME:CEST
DTSTART:20250330T010000
END:DAYLIGHT
BEGIN:STANDARD
TZOFFSETFROM:+0200
TZOFFSETTO:+0100
TZNAME:CET
DTSTART:20251026T010000
END:STANDARD
BEGIN:DAYLIGHT
TZOFFSETFROM:+0100
TZOFFSETTO:+0200
TZNAME:CEST
DTSTART:20260329T010000
END:DAYLIGHT
BEGIN:STANDARD
TZOFFSETFROM:+0200
TZOFFSETTO:+0100
TZNAME:CET
DTSTART:20261025T010000
END:STANDARD
BEGIN:DAYLIGHT
TZOFFSETFROM:+0100
TZOFFSETTO:+0200
TZNAME:CEST
DTSTART:20270328T010000
END:DAYLIGHT
BEGIN:STANDARD
TZOFFSETFROM:+0200
TZOFFSETTO:+0100
TZNAME:CET
DTSTART:20271031T010000
END:STANDARD
END:VTIMEZONE
BEGIN:VEVENT
DTSTART;TZID=Europe/Amsterdam:20260420T000000
DTEND;TZID=Europe/Amsterdam:20260423T235959
DTSTAMP:20260419T153408
CREATED:20260107T153843Z
LAST-MODIFIED:20260112T073312Z
UID:1414-1776643200-1776988799@gasturbinehub.com
SUMMARY:V94.2 (SGT5-2000E AE94.2) Users Conference 2026
DESCRIPTION:The V94.2 (SGT5-2000E / AE94.2) Users Conference 2026 brings together owners and operators of these robust heavy-duty gas turbines for Siemens Energy and Ansaldo Energia systems. Designed for 50 Hz power generation\, the V94.2 / SGT5-2000E delivers around 170-200 MW output in simple cycle with high fuel flexibility and low-NOx emissions. \nThis conference acts as a key platform for technical discussions on maintenance\, upgrades\, and operational challenges specific to V94.2 fleets worldwide. \n 
URL:https://gasturbinehub.com/event/v94-2-sgt5-2000e-ae94-2-users-conference-2026/
CATEGORIES:Gas Turbine Events
END:VEVENT
BEGIN:VEVENT
DTSTART;TZID=Europe/Amsterdam:20260504T000000
DTEND;TZID=Europe/Amsterdam:20260506T235959
DTSTAMP:20260419T153408
CREATED:20260203T131215Z
LAST-MODIFIED:20260203T131538Z
UID:1656-1777852800-1778111999@gasturbinehub.com
SUMMARY:Saudi Rotating Equipment Technical Conference & Expo 2026
DESCRIPTION:The Saudi Rotating Equipment Technical Conference & Expo 2026 (commonly referred to as Saudi RoTIC) is the Middle East’s premier technical forum for the rotating machinery community. It is a specialized industrial event that focuses on the engineering\, maintenance\, and technological advancement of equipment such as turbines\, compressors\, pumps\, and motors. \nThe conference is heavily supported by regional industrial giants\, particularly Saudi Aramco\, and is designed to align with the Kingdom’s Vision 2030 goals regarding industrial reliability and localized manufacturing.
URL:https://gasturbinehub.com/event/saudi-rotating-equipment-technical-conference-expo-2026/
LOCATION:Kempinski Al Othman Hotel Al Khobar\, Kempinski Al Othman Hotel Al Khobar\, King Saud Road\, Al Khobar\, 31952\, Saudi Arabia
CATEGORIES:Gas Turbine Events
END:VEVENT
BEGIN:VEVENT
DTSTART;TZID=Europe/Amsterdam:20260511T000000
DTEND;TZID=Europe/Amsterdam:20260513T235959
DTSTAMP:20260419T153408
CREATED:20260107T154141Z
LAST-MODIFIED:20260112T073315Z
UID:1416-1778457600-1778716799@gasturbinehub.com
SUMMARY:SGT800 Users Conference 2026
DESCRIPTION:The SGT800 Users Conference connects owners\, operators\, and maintainers of Siemens Energy’s SGT800 gas turbines—an industrial model for combined cycle and cogeneration with up to 180 MW output in 2×1 setups and over 60% efficiency. \nScheduled for May 11-13\, 2026\, in Stuttgart\, Germany\, the conference offers technical presentations\, OEM updates from Siemens Energy\, vendor exhibits\, and peer networking.
URL:https://gasturbinehub.com/event/sgt800-users-conference-2026/
CATEGORIES:Gas Turbine Events
END:VEVENT
BEGIN:VEVENT
DTSTART;TZID=Europe/Amsterdam:20260512T000000
DTEND;TZID=Europe/Amsterdam:20260514T235959
DTSTAMP:20260419T153408
CREATED:20251114T180715Z
LAST-MODIFIED:20260112T073319Z
UID:572-1778544000-1778803199@gasturbinehub.com
SUMMARY:13th GTF Gas Turbine Focus Conference and Exhibition 2026
DESCRIPTION:13th Gas Turbine Focus Conference and Exhibition (GTF 2026). This annual flagship event stands as the premier gathering for the global aero engine and gas turbine community\, guided by the core themes of “Driving Supply Chain Synergy\, Building an Innovative Ecosystem\, and Seizing Global Opportunities from China”. Under the overarching vision of “From Innovation to Application: Co-Creating the Future of Aviation Propulsion and Gas Turbines”\, GTF 2026 is set to unite industry stakeholders from across the globe for an unparalleled experience of knowledge exchange\, technical collaboration\, and business development.\n \nHosts:\n\n\nChinese Society of Power Engineering\nChinese Society of Aeronautics and Astronautics\nChinese Society of Engineering Thermophysics
URL:https://gasturbinehub.com/event/gtf-2026-13th-gas-turbine-focus-conference-and-exhibition-2026/
LOCATION:Private: Shanghai World Expo Theme Pavilion\, 850 BoCheng Road\, PuDong District\, Shanghai\, China
CATEGORIES:Gas Turbine Events
END:VEVENT
BEGIN:VEVENT
DTSTART;TZID=Europe/Amsterdam:20260518T000000
DTEND;TZID=Europe/Amsterdam:20260522T235959
DTSTAMP:20260419T153408
CREATED:20260107T154558Z
LAST-MODIFIED:20260306T095054Z
UID:1418-1779062400-1779494399@gasturbinehub.com
SUMMARY:7F Users Group Annual Conference 2026
DESCRIPTION:The 7F Users Group Annual Conference offers an open forum for owners and operators of 7F combustion turbine generator systems. Through conferences and technological resources\, the group facilitates communication\, discussion\, and information sharing on key topics like operation\, maintenance\, inspection\, troubleshooting\, and repair.
URL:https://gasturbinehub.com/event/7f-users-group-annual-conference-2026/
LOCATION:The Woodlands Waterway Marriott Hotel and Convention Center\, 1601 Lake Robbins Dr\, The Woodlands\, TX\, TX 77380\, United States
CATEGORIES:Gas Turbine Events,User Groups
END:VEVENT
BEGIN:VEVENT
DTSTART;TZID=Europe/Amsterdam:20260519T000000
DTEND;TZID=Europe/Amsterdam:20260521T235959
DTSTAMP:20260419T153408
CREATED:20251022T111958Z
LAST-MODIFIED:20260112T073328Z
UID:517-1779148800-1779407999@gasturbinehub.com
SUMMARY:Asia Turbomachinery & Pump Symposia (TPS) 2026
DESCRIPTION:The Asia Turbomachinery & Pump Symposium is a vital industry event\, offering a forum for the exchange of ideas between rotating equipment engineers and technicians worldwide. Now approaching its fourth biennial program\, ATPS is becoming known for its impact on turbomachinery\, pump\, oil & gas\, petrochemical\, power\, aerospace\, chemical and water industries.
URL:https://gasturbinehub.com/event/asia-turbomachinery-pump-symposia-tps-2026/
LOCATION:Private: Kuala Lumpur Convention Centre\, Kuala Lumpur Convention Centre\, Kuala Lumpur\, Wilayah Persekutuan Kuala Lumpur\, 50088\, Malaysia
CATEGORIES:Gas Turbine Events
END:VEVENT
BEGIN:VEVENT
DTSTART;TZID=Europe/Amsterdam:20260519T000000
DTEND;TZID=Europe/Amsterdam:20260521T235959
DTSTAMP:20260419T153408
CREATED:20260203T115750Z
LAST-MODIFIED:20260203T115801Z
UID:1644-1779148800-1779407999@gasturbinehub.com
SUMMARY:Enlit Africa 2026
DESCRIPTION:Enlit Africa 2026 is the continent’s largest unified conference and exhibition for the power\, energy\, and water sectors. While formerly known as African Utility Week\, it now operates under the global “Enlit” brand\, serving as a pan-African platform for utilities\, government regulators\, and technology providers. \nThe 2026 event focuses on the “Just Energy Transition” and the technical practicalities of modernising African power grids to improve energy access and reliability.
URL:https://gasturbinehub.com/event/enlit-africa-2026/
LOCATION:CTICC (Cape Town International Convention Centre)\, Convention Square\, 1 Lower Long St\, Cape Town\, 8001\, South Africa
CATEGORIES:Gas Turbine Events
END:VEVENT
BEGIN:VEVENT
DTSTART;TZID=Europe/Amsterdam:20260609T000000
DTEND;TZID=Europe/Amsterdam:20260611T235959
DTSTAMP:20260419T153408
CREATED:20260117T084641Z
LAST-MODIFIED:20260306T095026Z
UID:1594-1780963200-1781222399@gasturbinehub.com
SUMMARY:LM2500 User Group Meeting
DESCRIPTION:ETN Global’s LM2500 User Group Meeting will be held on 09-11 June 2026. Aker BP will host the event at their new office building in Stavanger\, Norway. \nThe three-day event will include: \n\nUser & technical Sessions – discussions among users (and service providers/suppliers) on current top-priority topics.\nGE Aerospace/Baker Hughes/AeroAlliance JV sessions – Special session(s) about the latest developments & upgrades and technical discussions about high-priority topics.\nAn exhibition area & networking opportunities
URL:https://gasturbinehub.com/event/lm2500-user-group-meeting/
LOCATION:Aker BP Stavanger\, Jåttåflaten 28\, Stavanger\, 4020\, Norway
CATEGORIES:Gas Turbine Events,User Groups
END:VEVENT
BEGIN:VEVENT
DTSTART;TZID=Europe/Amsterdam:20260615T000000
DTEND;TZID=Europe/Amsterdam:20260619T235959
DTSTAMP:20260419T153408
CREATED:20260203T102620Z
LAST-MODIFIED:20260203T102620Z
UID:1631-1781481600-1781913599@gasturbinehub.com
SUMMARY:ASME Turbo Expo 2026 (Turbomachinery Technical Conference & Exposition)
DESCRIPTION:The ASME Turbo Expo (Turbomachinery Technical Conference & Exposition) is an annual forum for the International Gas Turbine Institute (IGTI). The 2026 meeting is scheduled for June 15–19 in Milan\, Italy. The event functions as a peer-reviewed technical conference combined with an industrial exhibition focused on the life cycle of gas turbines\, steam turbines\, wind turbines\, and fans.
URL:https://gasturbinehub.com/event/asme-turbo-expo-2026-turbomachinery-technical-conference-exposition/
LOCATION:Allianz MiCo\, Piazzale Carlo Magno\, 1\, Milan\, 20149\, Italy
CATEGORIES:Gas Turbine Events
END:VEVENT
BEGIN:VEVENT
DTSTART;TZID=Europe/Amsterdam:20260622T000000
DTEND;TZID=Europe/Amsterdam:20260625T235959
DTSTAMP:20260419T153408
CREATED:20260203T103303Z
LAST-MODIFIED:20260306T095016Z
UID:1634-1782086400-1782431999@gasturbinehub.com
SUMMARY:Legacy Turbine Users Group Annual Conference 2026
DESCRIPTION:The Legacy Turbine Users Group (LTUG) Annual Conference is a technical forum specifically designed for the owners and operators of mature General Electric gas turbine fleets. It serves as a consolidated meeting for three distinct sub-groups: Frame 7EA\, Frame 6B\, and Frame 5. \nThe conference’s primary function is to facilitate the exchange of technical data\, maintenance strategies\, and operational experiences for equipment that is often decades old and facing “end-of-life” or “mid-life” rejuvenation challenges.
URL:https://gasturbinehub.com/event/legacy-turbine-users-group-annual-conference-2026/
LOCATION:Omni Oklahoma City Hotel\, 100 Oklahoma City Blvd\, Oklahoma City\, OK\, 73109\, United States
CATEGORIES:Gas Turbine Events,User Groups
END:VEVENT
BEGIN:VEVENT
DTSTART;TZID=Europe/Amsterdam:20260721T000000
DTEND;TZID=Europe/Amsterdam:20260723T235959
DTSTAMP:20260419T153408
CREATED:20260417T071643Z
LAST-MODIFIED:20260417T071643Z
UID:2095-1784592000-1784851199@gasturbinehub.com
SUMMARY:9th Annual Generation Flexibility Conference
DESCRIPTION:The 9th Annual Generation Flexibility Conference\, organized by Electric Power Research Institute\, is a three-day hybrid event focused on the evolving operational demands of thermal power plants. Structured into six sessions\, the conference centers on the technical and operational challenges associated with increasing flexibility in power generation.
URL:https://gasturbinehub.com/event/9th-annual-generation-flexibility-conference/
LOCATION:Private: EPRI Campus\, 1300 W W.T.Harris Blvd\, Charlotte\, NC\, NC 28262\, United States
CATEGORIES:Gas Turbine Events
END:VEVENT
BEGIN:VEVENT
DTSTART;TZID=Europe/Amsterdam:20260803T000000
DTEND;TZID=Europe/Amsterdam:20260806T235959
DTSTAMP:20260419T153408
CREATED:20260223T142044Z
LAST-MODIFIED:20260306T095021Z
UID:1850-1785715200-1786060799@gasturbinehub.com
SUMMARY:7HA & 9HA Users Group Annual Conference 2026
DESCRIPTION:The HA Users Group Annual Conference 2026 (often stylised as the 7HA/9HA Users Group) is an exclusive technical event for owner-operators of General Electric’s H-class gas turbines. \nThis conference serves as a high-level forum for sharing operational best practices\, troubleshooting\,  and collaborating directly with GE Vernova engineers.
URL:https://gasturbinehub.com/event/7ha-9ha-users-group-annual-conference-2026/
LOCATION:Fort Lauderdale Marriott Harbor Beach Resort & Spa\, 3030 Holiday Dr\, Fort Lauderdale\, FL\, FL 33316\, United States
CATEGORIES:Gas Turbine Events,User Groups
END:VEVENT
BEGIN:VEVENT
DTSTART;TZID=Europe/Amsterdam:20260819T000000
DTEND;TZID=Europe/Amsterdam:20260821T235959
DTSTAMP:20260419T153408
CREATED:20260223T140959Z
LAST-MODIFIED:20260223T140959Z
UID:1845-1787097600-1787356799@gasturbinehub.com
SUMMARY:Asian Congress on Gas Turbines 2026
DESCRIPTION:ACGT2026 aims to provide an international platform for exchange of information related to gas turbine and energy technology among researchers and students worldwide\, especially from the Asian Region. Presentations for any aspect of gas turbine and energy technology research are welcome. The congress will have Keynote Speeches\, Keynote lectures\, and Forums in addition to General Sessions.
URL:https://gasturbinehub.com/event/asian-congress-gas-turbines-2026/
LOCATION:Toyama International Conference Center\, Toyama International Conference Center. 1-2 Ote-machi\, Toyama\, Japan
CATEGORIES:Gas Turbine Events
END:VEVENT
BEGIN:VEVENT
DTSTART;TZID=Europe/Amsterdam:20260824T000000
DTEND;TZID=Europe/Amsterdam:20260827T235959
DTSTAMP:20260419T153408
CREATED:20260223T142425Z
LAST-MODIFIED:20260306T095058Z
UID:1855-1787529600-1787875199@gasturbinehub.com
SUMMARY:Power Users Annual Combined Conference 2026
DESCRIPTION:The Combined Conference brings together five user groups under the Power Users umbrella – Combined Cycle Users Group (CCUG)\, Generator Users Group (GUG)\, Power Plant Controls Users Group (PPCUG)\, Steam Turbine Users Group (STUG)\, and Low Carbon Peer Group (LCPG).
URL:https://gasturbinehub.com/event/power-users-annual-combined-conference-2026/
LOCATION:San Antonio Rivercenter on the River Walk\, 101 Bowie St\, San Antonio\, Texas\, TX 78205\, United States
CATEGORIES:Gas Turbine Events,User Groups
END:VEVENT
BEGIN:VEVENT
DTSTART;TZID=Europe/Amsterdam:20260830T000000
DTEND;TZID=Europe/Amsterdam:20260903T235959
DTSTAMP:20260419T153408
CREATED:20260203T104509Z
LAST-MODIFIED:20260203T104653Z
UID:1637-1788048000-1788479999@gasturbinehub.com
SUMMARY:2026 Combustion Turbine Operations Technical Forum (CTOTF) Fall Conference
DESCRIPTION:The 2026 CTOTF Fall Conference is the 51st anniversary meeting of the Combustion Turbine Operations Technical Forum. It focuses on the design\, operation\, and maintenance of combustion turbine and combined-cycle power plants. \nThe conference is designed to serve as an “extended technical services department” for power plant managers and engineers. It utilizes a “Total Plant” concept\, covering systems from the air inlet to the high-voltage grid connection.
URL:https://gasturbinehub.com/event/2026-ctotf-fall-conference/
LOCATION:Grand Hyatt San Antonio River Walk\, 600 E Market St\, San Antonio\, TX\, 78205\, United States
CATEGORIES:Gas Turbine Events
END:VEVENT
BEGIN:VEVENT
DTSTART;TZID=Europe/Amsterdam:20260909T000000
DTEND;TZID=Europe/Amsterdam:20260911T235959
DTSTAMP:20260419T153408
CREATED:20260121T124218Z
LAST-MODIFIED:20260121T124218Z
UID:1611-1788912000-1789171199@gasturbinehub.com
SUMMARY:GPPS Power and Propulsion Sector - Montreal 2026
DESCRIPTION:The GPPS Technical Conference 2026 will be held in Montreal\, Canada\, from 9 to 11 September 2026. \nThe 2026 conference is co-hosted by the Global Power & Propulsion Society (GPPS) and L’École de technologie supérieure (ÉTS)\, a Montréal-based engineering university with a focus on applied research and cooperative education.
URL:https://gasturbinehub.com/event/gpps-power-and-propulsion-sector-montreal-2026/
CATEGORIES:Gas Turbine Events
END:VEVENT
BEGIN:VEVENT
DTSTART;TZID=Europe/Amsterdam:20260914T000000
DTEND;TZID=Europe/Amsterdam:20260917T235959
DTSTAMP:20260419T153408
CREATED:20260205T105820Z
LAST-MODIFIED:20260205T110113Z
UID:1733-1789344000-1789689599@gasturbinehub.com
SUMMARY:Gastech Bangkok 2026: Exhibition & Conference
DESCRIPTION:Gastech is a long-standing international forum\, now in its 54th year\, that focuses on the intersection of natural gas\, hydrogen\, climate technologies\, and artificial intelligence within the energy sector. As an expansive exhibition and conference\, it serves as a primary meeting point for policymakers and industry leaders to discuss the dual challenges of global decarbonization and energy security. The event functions as a platform for launching technical initiatives and establishing strategic partnerships aimed at advancing sustainable energy transitions and market affordability.
URL:https://gasturbinehub.com/event/gastech-bangkok-2026-exhibition-conference/
LOCATION:BITEC\, 88 Debaratna Rd\, Bang Na Tai\, Bang Na\, Bangkok\, 10260\, Thailand
CATEGORIES:Gas Turbine Events
END:VEVENT
BEGIN:VEVENT
DTSTART;TZID=Europe/Amsterdam:20260922T000000
DTEND;TZID=Europe/Amsterdam:20260924T235959
DTSTAMP:20260419T153408
CREATED:20251115T112112Z
LAST-MODIFIED:20260112T073332Z
UID:600-1790035200-1790294399@gasturbinehub.com
SUMMARY:Turbomachinery & Pump Symposia (TPS) 2026
DESCRIPTION:TPS is a vital industry event\, offering a forum for the exchange of ideas between rotating equipment engineers and technicians worldwide. Now surpassing 50 years\, TPS is known for its impact on turbomachinery\, pump\, oil & gas\, petrochemical\, power\, aerospace\, chemical and water industries.
URL:https://gasturbinehub.com/event/turbomachinery-pump-symposia-tps-2026/
LOCATION:George R. Brown Convention Center\, 1001 Avenida De Las Americas\, Houston\, TX\, 77010\, United States
CATEGORIES:Gas Turbine Events
END:VEVENT
BEGIN:VEVENT
DTSTART;TZID=Europe/Amsterdam:20260922T000000
DTEND;TZID=Europe/Amsterdam:20260924T235959
DTSTAMP:20260419T153408
CREATED:20260203T120741Z
LAST-MODIFIED:20260203T120957Z
UID:1648-1790035200-1790294399@gasturbinehub.com
SUMMARY:Enlit Asia 2026
DESCRIPTION:Enlit Asia 2026 is the primary annual conference and exhibition for the ASEAN (Association of Southeast Asian Nations) power and energy sector. It serves as the unified platform for two historically significant events: POWERGEN Asia and Asian Utility Week. \nThe event is designed to address the specific challenges of the Southeast Asian energy landscape\, focusing on how the region can balance rapid load growth with the transition to a lower-carbon energy mix.
URL:https://gasturbinehub.com/event/enlit-asia-2026/
LOCATION:Indonesia Convention Exhibition (ICE) BSD City\, Jl. BSD Grand Boulevard No.1\, Pagedangan\, Kec. Pagedangan\, Kabupaten Tangerang\, Banten\, 15339\, Indonesia
CATEGORIES:Gas Turbine Events
END:VEVENT
BEGIN:VEVENT
DTSTART;TZID=Europe/Amsterdam:20260928T000000
DTEND;TZID=Europe/Amsterdam:20260930T235959
DTSTAMP:20260419T153408
CREATED:20260203T113808Z
LAST-MODIFIED:20260203T113808Z
UID:1640-1790553600-1790812799@gasturbinehub.com
SUMMARY:Experience POWER 2026
DESCRIPTION:Experience POWER 2026 is an annual conference and exhibition hosted by POWER Magazine. It is designed as a broad-spectrum technical event that bridges the gap between traditional power generation (coal\, gas\, nuclear) and the evolving energy transition (renewables\, hydrogen\, and grid-scale storage).
URL:https://gasturbinehub.com/event/experience-power-2026/
LOCATION:Omni Shoreham Hotel\, 2500 Calvert Street\, NW\, Washington\, DC\, 20008\, United States
CATEGORIES:Gas Turbine Events
END:VEVENT
BEGIN:VEVENT
DTSTART;TZID=Europe/Amsterdam:20261019T000000
DTEND;TZID=Europe/Amsterdam:20261022T235959
DTSTAMP:20260419T153408
CREATED:20260413T071204Z
LAST-MODIFIED:20260413T071242Z
UID:2091-1792368000-1792713599@gasturbinehub.com
SUMMARY:Argentina Oil&Gas Expo 2026
DESCRIPTION:
URL:https://gasturbinehub.com/event/argentina-oilgas-expo-2026/
LOCATION:Espacio Duam\, San Martín 5901\, Neuquén\, Q8300\, Argentina
CATEGORIES:Gas Turbine Events
END:VEVENT
BEGIN:VEVENT
DTSTART;TZID=Europe/Amsterdam:20261102T000000
DTEND;TZID=Europe/Amsterdam:20261104T235959
DTSTAMP:20260419T153408
CREATED:20260408T110638Z
LAST-MODIFIED:20260408T110638Z
UID:2087-1793577600-1793836799@gasturbinehub.com
SUMMARY:2026 GTEN Symposium
DESCRIPTION:The 2026 GTEN Symposium\, organized by the Gas Turbine Engineering Network\, is a technical conference that brings together gas turbine engineers\, operators\, and industry experts to exchange knowledge on the operation\, maintenance\, and performance optimization of gas turbine systems. \nThe symposium provides a platform for practical\, experience-based presentations and technical discussions\, focusing on real-world challenges faced by plant operators and engineering teams. It emphasizes applied engineering insights rather than purely academic research\, making it highly relevant for professionals involved in day-to-day gas turbine operations. \nKey topics typically include: \n\nGas turbine performance monitoring and optimization\nMaintenance best practices and outage planning\nComponent failures\, root cause analysis\, and corrective actions\nCombustion tuning and emissions management\nDigital tools\, data analytics\, and predictive maintenance\nBalance-of-plant integration and operational flexibility\n\nThe event also facilitates networking and peer-to-peer exchange\, enabling participants to share lessons learned\, benchmark performance\, and discuss solutions to common operational issues. \nThe GTEN Symposium is particularly valuable for engineers and technical specialists working in utilities\, industrial plants\, and service organizations seeking to enhance reliability\, efficiency\, and lifecycle management of gas turbine assets.
URL:https://gasturbinehub.com/event/2026-gten-symposium/
LOCATION:Fairmont Banff Springs Hotel\, 405 Spray Ave\, Banff\, AB T1L 1J4\, Canada
CATEGORIES:Gas Turbine Events
END:VEVENT
BEGIN:VEVENT
DTSTART;TZID=Europe/Amsterdam:20261102T000000
DTEND;TZID=Europe/Amsterdam:20261105T235959
DTSTAMP:20260419T153408
CREATED:20260205T110907Z
LAST-MODIFIED:20260205T111015Z
UID:1736-1793577600-1793923199@gasturbinehub.com
SUMMARY:ADIPEC Exhibition & Conference 2026
DESCRIPTION:ADIPEC (the Abu Dhabi International Petroleum Exhibition and Conference) is one of the world’s largest and most influential gatherings for the energy industry. Held annually in Abu Dhabi\, United Arab Emirates\, it serves as a global platform where energy ministers\, CEOs\, and technical experts convene to shape the future of the energy landscape. \nThe conference is structured around several critical areas of the modern energy transition: \n\nEnergy Security and Affordability: Addressing the stability of global supply chains.\nDecarbonization: Dedicated zones for hydrogen\, carbon capture\, and carbon-reduction technologies to meet net-zero targets.\nAI and Digital Transformation: A significant focus on how Artificial Intelligence and data analytics can optimize production and reduce emissions.\nManufacturing and Logistics: Showcasing the industrial machinery and maritime services that support the energy value chain.
URL:https://gasturbinehub.com/event/adipec-exhibition-conference-2026/
LOCATION:Private: ADNEC\, ADNEC Centre Abu Dhabi\, Abu Dhabi\, W59 01\, United Arab Emirates
CATEGORIES:Gas Turbine Events
END:VEVENT
BEGIN:VEVENT
DTSTART;TZID=Europe/Amsterdam:20261110T000000
DTEND;TZID=Europe/Amsterdam:20261112T235959
DTSTAMP:20260419T153408
CREATED:20260203T121548Z
LAST-MODIFIED:20260203T131515Z
UID:1651-1794268800-1794527999@gasturbinehub.com
SUMMARY:Enlit Europe 2026
DESCRIPTION:Enlit Europe 2026 is an European event for the entire energy value chain\, from generation to end-use. \nThe conference rotates annually to different European energy hubs to highlight regional progress. The 2026 edition centers on the technical and regulatory frameworks necessary to achieve a fully decarbonised and digitalised European power system by 2050.
URL:https://gasturbinehub.com/event/enlit-europe-2026/
LOCATION:Messe Wien Exhibition Congress Center\, Messepl. 1\, Wien\, 1020\, Austria
CATEGORIES:Gas Turbine Events
END:VEVENT
BEGIN:VEVENT
DTSTART;TZID=Europe/Amsterdam:20261118T000000
DTEND;TZID=Europe/Amsterdam:20261119T235959
DTSTAMP:20260419T153408
CREATED:20260203T122056Z
LAST-MODIFIED:20260205T111130Z
UID:1654-1794960000-1795132799@gasturbinehub.com
SUMMARY:MEGAWATT Exhibition & Conference 2026
DESCRIPTION:MEGAWATT 2026 is a technical energy forum and trade show focusing on the integration of traditional power generation with new energy transition technologies. It positions itself as a bridge between the conventional power sector (gas\, steam\, nuclear) and emerging low-carbon solutions.
URL:https://gasturbinehub.com/event/megawatt-exhibition-conference-2026/
LOCATION:Milan Bergamo Exhibition Center\, Via Lunga\, Bergamo\, https://www.bergamofiera.it\, 24125\, Italy
CATEGORIES:Gas Turbine Events
END:VEVENT
END:VCALENDAR